View In:
ArcGIS JavaScript
ArcGIS Online Map Viewer
ArcGIS Earth
ArcMap
View Footprint In:
ArcGIS Online Map Viewer
Service Description: AA_MRDMS_v2/AA_MRDMS_NMD_35cmRes_ImageLAYER
Name: AA_MRDMS_v2/AA_MRDMS_NMD_35cmRes_ImageLAYER
Description:
Single Fused Map Cache: false
Extent:
XMin: 1797356.0486666504
YMin: -3327714.329602298
XMax: 1830701.5986665112
YMax: -3295582.229602432
Spatial Reference: 102100
(3857)
Initial Extent:
XMin: 1797356.0486666504
YMin: -3327714.329602298
XMax: 1830701.5986665112
YMax: -3295582.229602432
Spatial Reference: 102100
(3857)
Full Extent:
XMin: 1797356.0486666504
YMin: -3327714.329602298
XMax: 1830701.5986665112
YMax: -3295582.229602432
Spatial Reference: 102100
(3857)
Pixel Size X: 0.3499999999985391
Pixel Size Y: 0.3499999999985402
Band Count: 33
Pixel Type: U8
RasterFunction Infos: {"rasterFunctionInfos": [{
"name": "None",
"description": "",
"help": ""
}]}
Mensuration Capabilities: Basic
Has Histograms: true
Has Colormap: false
Has Multi Dimensions : false
Rendering Rule:
Min Scale: 0
Max Scale: 0
Copyright Text:
Service Data Type: esriImageServiceDataTypeGeneric
Min Values: 0, 0, 0, 0, 0, 0, 0, 0, 0, 0, 0, 0, 0, 0, 0, 0, 0, 0, 0, 0, 0, 0, 0, 0, 0, 0, 0, 0, 0, 0, 0, 0, 0
Max Values: 255, 255, 255, 255, 255, 255, 255, 255, 255, 255, 255, 255, 255, 255, 255, 255, 255, 255, 255, 255, 255, 255, 255, 255, 255, 255, 255, 255, 255, 255, 255, 255, 255
Mean Values: 231.96663751443938, 226.73438954107982, 222.92905636471193, 223.22971957796543, 223.22971957796543, 223.22971957796543, 223.22971957796543, 223.22971957796543, 223.22971957796543, 223.22971957796543, 223.22971957796543, 223.22971957796543, 223.22971957796543, 223.22971957796543, 223.22971957796543, 223.22971957796543, 223.22971957796543, 223.22971957796543, 223.22971957796543, 223.22971957796543, 223.22971957796543, 223.22971957796543, 223.22971957796543, 223.22971957796543, 223.22971957796543, 223.22971957796543, 223.22971957796543, 223.22971957796543, 223.22971957796543, 223.22971957796543, 223.22971957796543, 223.22971957796543, 223.22971957796543
Standard Deviation Values: 45.81565028663767, 55.295900686459035, 62.57805516442001, 62.37808572255363, 62.37808572255363, 62.37808572255363, 62.37808572255363, 62.37808572255363, 62.37808572255363, 62.37808572255363, 62.37808572255363, 62.37808572255363, 62.37808572255363, 62.37808572255363, 62.37808572255363, 62.37808572255363, 62.37808572255363, 62.37808572255363, 62.37808572255363, 62.37808572255363, 62.37808572255363, 62.37808572255363, 62.37808572255363, 62.37808572255363, 62.37808572255363, 62.37808572255363, 62.37808572255363, 62.37808572255363, 62.37808572255363, 62.37808572255363, 62.37808572255363, 62.37808572255363, 62.37808572255363
Object ID Field: OBJECTID
Fields:
-
OBJECTID
(
type: esriFieldTypeOID, alias: OBJECTID
)
-
Shape
(
type: esriFieldTypeGeometry, alias: Shape
)
-
Name
(
type: esriFieldTypeString, alias: Name, length: 200
)
-
MinPS
(
type: esriFieldTypeDouble, alias: MinPS
)
-
MaxPS
(
type: esriFieldTypeDouble, alias: MaxPS
)
-
LowPS
(
type: esriFieldTypeDouble, alias: LowPS
)
-
HighPS
(
type: esriFieldTypeDouble, alias: HighPS
)
-
Category
(
type: esriFieldTypeInteger, alias: Category
, Coded Values:
[0: Unknown]
, [1: Primary]
, [2: Overview]
, ...6 more...
)
-
Tag
(
type: esriFieldTypeString, alias: Tag, length: 100
)
-
GroupName
(
type: esriFieldTypeString, alias: GroupName, length: 100
)
-
ProductName
(
type: esriFieldTypeString, alias: ProductName, length: 100
)
-
CenterX
(
type: esriFieldTypeDouble, alias: CenterX
)
-
CenterY
(
type: esriFieldTypeDouble, alias: CenterY
)
-
ZOrder
(
type: esriFieldTypeInteger, alias: ZOrder
)
-
Shape_Length
(
type: esriFieldTypeDouble, alias: Shape_Length
)
-
Shape_Area
(
type: esriFieldTypeDouble, alias: Shape_Area
)
Default Mosaic Method: Northwest
Allowed Mosaic Methods: NorthWest,Center,LockRaster,ByAttribute,Nadir,Viewpoint,Seamline,None
SortField:
SortValue: null
Mosaic Operator: First
Default Compression Quality: 75
Default Resampling Method: Bilinear
Max Record Count: 1000
Max Image Height: 4100
Max Image Width: 15000
Max Download Image Count: 20
Max Mosaic Image Count: 20
Allow Raster Function: true
Allow Copy: true
Allow Analysis: true
Allow Compute TiePoints: false
Supports Statistics: true
Supports Advanced Queries: true
Use StandardizedQueries: true
Raster Type Infos:
Name: Raster Dataset
Description: Supports all ArcGIS Raster Datasets
Help:
Has Raster Attribute Table: false
Edit Fields Info: null
Ownership Based AccessControl For Rasters: null
Child Resources:
Info
Histograms
Statistics
Key Properties
Legend
Raster Function Infos
Supported Operations:
Export Image
Query
Identify
Measure
Compute Histograms
Compute Statistics Histograms
Get Samples
Compute Class Statistics
Query Boundary
Compute Pixel Location
Compute Angles
Validate
Project