{
 "currentVersion": 10.91,
 "serviceDescription": "AA_MRDMS_v2/AA_MRDMS_NMD_35cmRes_ImageLAYER",
 "name": "AA_MRDMS_v2/AA_MRDMS_NMD_35cmRes_ImageLAYER",
 "description": "",
 "extent": {
  "xmin": 1797356.0486666504,
  "ymin": -3327714.329602298,
  "xmax": 1830701.5986665112,
  "ymax": -3295582.229602432,
  "spatialReference": {
   "wkid": 102100,
   "latestWkid": 3857
  }
 },
 "initialExtent": {
  "xmin": 1797356.0486666504,
  "ymin": -3327714.329602298,
  "xmax": 1830701.5986665112,
  "ymax": -3295582.229602432,
  "spatialReference": {
   "wkid": 102100,
   "latestWkid": 3857
  }
 },
 "fullExtent": {
  "xmin": 1797356.0486666504,
  "ymin": -3327714.329602298,
  "xmax": 1830701.5986665112,
  "ymax": -3295582.229602432,
  "spatialReference": {
   "wkid": 102100,
   "latestWkid": 3857
  }
 },
 "hasMultidimensions": false,
 "pixelSizeX": 0.3499999999985391,
 "pixelSizeY": 0.3499999999985402,
 "datasetFormat": "AMD",
 "uncompressedSize": 288638890254,
 "blockWidth": 2048,
 "blockHeight": 256,
 "compressionType": "None",
 "bandNames": [
  "Band_1",
  "Band_2",
  "Band_3",
  "Band_4",
  "Band_5",
  "Band_6",
  "Band_7",
  "Band_8",
  "Band_9",
  "Band_10",
  "Band_11",
  "Band_12",
  "Band_13",
  "Band_14",
  "Band_15",
  "Band_16",
  "Band_17",
  "Band_18",
  "Band_19",
  "Band_20",
  "Band_21",
  "Band_22",
  "Band_23",
  "Band_24",
  "Band_25",
  "Band_26",
  "Band_27",
  "Band_28",
  "Band_29",
  "Band_30",
  "Band_31",
  "Band_32",
  "Band_33"
 ],
 "allowCopy": true,
 "allowAnalysis": true,
 "bandCount": 33,
 "pixelType": "U8",
 "minPixelSize": 0,
 "maxPixelSize": 0,
 "copyrightText": "",
 "serviceDataType": "esriImageServiceDataTypeGeneric",
 "serviceSourceType": "esriImageServiceSourceTypeMosaicDataset",
 "minValues": [
  0,
  0,
  0,
  0,
  0,
  0,
  0,
  0,
  0,
  0,
  0,
  0,
  0,
  0,
  0,
  0,
  0,
  0,
  0,
  0,
  0,
  0,
  0,
  0,
  0,
  0,
  0,
  0,
  0,
  0,
  0,
  0,
  0
 ],
 "maxValues": [
  255,
  255,
  255,
  255,
  255,
  255,
  255,
  255,
  255,
  255,
  255,
  255,
  255,
  255,
  255,
  255,
  255,
  255,
  255,
  255,
  255,
  255,
  255,
  255,
  255,
  255,
  255,
  255,
  255,
  255,
  255,
  255,
  255
 ],
 "meanValues": [
  231.96663751443938,
  226.73438954107982,
  222.92905636471193,
  223.22971957796543,
  223.22971957796543,
  223.22971957796543,
  223.22971957796543,
  223.22971957796543,
  223.22971957796543,
  223.22971957796543,
  223.22971957796543,
  223.22971957796543,
  223.22971957796543,
  223.22971957796543,
  223.22971957796543,
  223.22971957796543,
  223.22971957796543,
  223.22971957796543,
  223.22971957796543,
  223.22971957796543,
  223.22971957796543,
  223.22971957796543,
  223.22971957796543,
  223.22971957796543,
  223.22971957796543,
  223.22971957796543,
  223.22971957796543,
  223.22971957796543,
  223.22971957796543,
  223.22971957796543,
  223.22971957796543,
  223.22971957796543,
  223.22971957796543
 ],
 "stdvValues": [
  45.81565028663767,
  55.295900686459035,
  62.57805516442001,
  62.37808572255363,
  62.37808572255363,
  62.37808572255363,
  62.37808572255363,
  62.37808572255363,
  62.37808572255363,
  62.37808572255363,
  62.37808572255363,
  62.37808572255363,
  62.37808572255363,
  62.37808572255363,
  62.37808572255363,
  62.37808572255363,
  62.37808572255363,
  62.37808572255363,
  62.37808572255363,
  62.37808572255363,
  62.37808572255363,
  62.37808572255363,
  62.37808572255363,
  62.37808572255363,
  62.37808572255363,
  62.37808572255363,
  62.37808572255363,
  62.37808572255363,
  62.37808572255363,
  62.37808572255363,
  62.37808572255363,
  62.37808572255363,
  62.37808572255363
 ],
 "objectIdField": "OBJECTID",
 "fields": [
  {
   "name": "OBJECTID",
   "type": "esriFieldTypeOID",
   "alias": "OBJECTID",
   "domain": null
  },
  {
   "name": "Shape",
   "type": "esriFieldTypeGeometry",
   "alias": "Shape",
   "domain": null
  },
  {
   "name": "Name",
   "type": "esriFieldTypeString",
   "alias": "Name",
   "domain": null,
   "length": 200
  },
  {
   "name": "MinPS",
   "type": "esriFieldTypeDouble",
   "alias": "MinPS",
   "domain": null
  },
  {
   "name": "MaxPS",
   "type": "esriFieldTypeDouble",
   "alias": "MaxPS",
   "domain": null
  },
  {
   "name": "LowPS",
   "type": "esriFieldTypeDouble",
   "alias": "LowPS",
   "domain": null
  },
  {
   "name": "HighPS",
   "type": "esriFieldTypeDouble",
   "alias": "HighPS",
   "domain": null
  },
  {
   "name": "Category",
   "type": "esriFieldTypeInteger",
   "alias": "Category",
   "domain": {
    "type": "codedValue",
    "name": "MosaicCatalogItemCategoryDomain",
    "description": "Catalog item categories.",
    "codedValues": [
     {
      "name": "Unknown",
      "code": 0
     },
     {
      "name": "Primary",
      "code": 1
     },
     {
      "name": "Overview",
      "code": 2
     },
     {
      "name": "Unprocessed Overview",
      "code": 3
     },
     {
      "name": "Partial Overview",
      "code": 4
     },
     {
      "name": "Inactive",
      "code": 5
     },
     {
      "name": "Uploaded",
      "code": 253
     },
     {
      "name": "Incomplete",
      "code": 254
     },
     {
      "name": "Custom",
      "code": 255
     }
    ],
    "mergePolicy": "esriMPTDefaultValue",
    "splitPolicy": "esriSPTDefaultValue"
   }
  },
  {
   "name": "Tag",
   "type": "esriFieldTypeString",
   "alias": "Tag",
   "domain": null,
   "length": 100
  },
  {
   "name": "GroupName",
   "type": "esriFieldTypeString",
   "alias": "GroupName",
   "domain": null,
   "length": 100
  },
  {
   "name": "ProductName",
   "type": "esriFieldTypeString",
   "alias": "ProductName",
   "domain": null,
   "length": 100
  },
  {
   "name": "CenterX",
   "type": "esriFieldTypeDouble",
   "alias": "CenterX",
   "domain": null
  },
  {
   "name": "CenterY",
   "type": "esriFieldTypeDouble",
   "alias": "CenterY",
   "domain": null
  },
  {
   "name": "ZOrder",
   "type": "esriFieldTypeInteger",
   "alias": "ZOrder",
   "domain": null
  },
  {
   "name": "Shape_Length",
   "type": "esriFieldTypeDouble",
   "alias": "Shape_Length",
   "domain": null
  },
  {
   "name": "Shape_Area",
   "type": "esriFieldTypeDouble",
   "alias": "Shape_Area",
   "domain": null
  }
 ],
 "capabilities": "Image,Metadata,Catalog,Mensuration",
 "defaultMosaicMethod": "Northwest",
 "allowedMosaicMethods": "NorthWest,Center,LockRaster,ByAttribute,Nadir,Viewpoint,Seamline,None",
 "sortField": "",
 "sortValue": null,
 "sortAscending": true,
 "mosaicOperator": "First",
 "maxDownloadSizeLimit": 2048,
 "defaultCompressionQuality": 75,
 "defaultResamplingMethod": "Bilinear",
 "maxImageHeight": 4100,
 "maxImageWidth": 15000,
 "maxRecordCount": 1000,
 "maxDownloadImageCount": 20,
 "maxMosaicImageCount": 20,
 "allowRasterFunction": true,
 "rasterFunctionInfos": [
  {
   "name": "None",
   "description": "",
   "help": ""
  }
 ],
 "rasterTypeInfos": [
  {
   "name": "Raster Dataset",
   "description": "Supports all ArcGIS Raster Datasets",
   "help": ""
  }
 ],
 "mensurationCapabilities": "Basic",
 "hasHistograms": true,
 "hasColormap": false,
 "hasRasterAttributeTable": false,
 "minScale": 0,
 "maxScale": 0,
 "exportTilesAllowed": false,
 "supportsStatistics": true,
 "supportsAdvancedQueries": true,
 "editFieldsInfo": null,
 "ownershipBasedAccessControlForRasters": null,
 "allowComputeTiePoints": false,
 "useStandardizedQueries": true,
 "advancedQueryCapabilities": {
  "useStandardizedQueries": true,
  "supportsStatistics": true,
  "supportsOrderBy": true,
  "supportsDistinct": true,
  "supportsPagination": true
 },
 "spatialReference": {
  "wkid": 102100,
  "latestWkid": 3857
 }
}
