View In:
ArcGIS JavaScript
ArcGIS Online Map Viewer
ArcGIS Earth
ArcMap
View Footprint In:
ArcGIS Online Map Viewer
Service Description: AA_MRDMS_v2/AA_MRDMS_LosBronces_LatestMineImagery_ImageLAYER
Name: AA_MRDMS_v2/AA_MRDMS_LosBronces_LatestMineImagery_ImageLAYER
Description:
Single Fused Map Cache: false
Extent:
XMin: -7832523.6939
YMin: -3931678.8258000016
XMax: -7817211.4339000005
YMax: -3919413.1841000016
Spatial Reference: 102100
(3857)
Initial Extent:
XMin: -7832523.6939
YMin: -3931678.8258000016
XMax: -7817211.4339000005
YMax: -3919413.1841000016
Spatial Reference: 102100
(3857)
Full Extent:
XMin: -7832523.6939
YMin: -3931678.8258000016
XMax: -7817211.4339000005
YMax: -3919413.1841000016
Spatial Reference: 102100
(3857)
Pixel Size X: 0.49999216326529883
Pixel Size Y: 0.4999853945866638
Band Count: 4
Pixel Type: F32
RasterFunction Infos: {"rasterFunctionInfos": [{
"name": "None",
"description": "",
"help": ""
}]}
Mensuration Capabilities: Basic
Has Histograms: false
Has Colormap: false
Has Multi Dimensions : false
Rendering Rule:
Min Scale: 0
Max Scale: 0
Copyright Text:
Service Data Type: esriImageServiceDataTypeGeneric
Min Values: -0.46928924322128, -0.22931133210659, -0.25676217675209, -0.5550816655159
Max Values: 3.8244972229004, 2.2537617683411, 2.482750415802, 2.5080816745758
Mean Values: 0.63692479396925, 0.43769394132118, 0.48665052599906, 0.44858648140636
Standard Deviation Values: 0.70052163355322, 0.48198630050029, 0.5060756405143, 0.48623813589481
Object ID Field:
Fields:
None
Default Mosaic Method: Center
Allowed Mosaic Methods:
SortField:
SortValue: null
Mosaic Operator: First
Default Compression Quality: 75
Default Resampling Method: Bilinear
Max Record Count: null
Max Image Height: 4100
Max Image Width: 15000
Max Download Image Count: null
Max Mosaic Image Count: null
Allow Raster Function: true
Allow Copy: true
Allow Analysis: true
Allow Compute TiePoints: false
Supports Statistics: false
Supports Advanced Queries: false
Use StandardizedQueries: true
Raster Type Infos:
Name: Raster Dataset
Description: Supports all ArcGIS Raster Datasets
Help:
Has Raster Attribute Table: false
Edit Fields Info: null
Ownership Based AccessControl For Rasters: null
Child Resources:
Info
Statistics
Key Properties
Legend
Raster Function Infos
Supported Operations:
Export Image
Identify
Measure
Compute Histograms
Compute Statistics Histograms
Get Samples
Compute Class Statistics
Query Boundary
Compute Pixel Location
Compute Angles
Validate
Project