{
 "currentVersion": 10.91,
 "serviceDescription": "AA_MRDMS_v2/AA_MRDMS_LosBronces_LatestMineImagery_ImageLAYER",
 "name": "AA_MRDMS_v2/AA_MRDMS_LosBronces_LatestMineImagery_ImageLAYER",
 "description": "",
 "extent": {
  "xmin": -7832523.6939,
  "ymin": -3931678.8258000016,
  "xmax": -7817211.4339000005,
  "ymax": -3919413.1841000016,
  "spatialReference": {
   "wkid": 102100,
   "latestWkid": 3857
  }
 },
 "initialExtent": {
  "xmin": -7832523.6939,
  "ymin": -3931678.8258000016,
  "xmax": -7817211.4339000005,
  "ymax": -3919413.1841000016,
  "spatialReference": {
   "wkid": 102100,
   "latestWkid": 3857
  }
 },
 "fullExtent": {
  "xmin": -7832523.6939,
  "ymin": -3931678.8258000016,
  "xmax": -7817211.4339000005,
  "ymax": -3919413.1841000016,
  "spatialReference": {
   "wkid": 102100,
   "latestWkid": 3857
  }
 },
 "hasMultidimensions": false,
 "pixelSizeX": 0.49999216326529883,
 "pixelSizeY": 0.4999853945866638,
 "datasetFormat": "TIFF",
 "uncompressedSize": 12020680000,
 "blockWidth": 128,
 "blockHeight": 128,
 "compressionType": "LZW",
 "bandNames": [
  "Band_1",
  "Band_2",
  "Band_3",
  "Band_4"
 ],
 "allowCopy": true,
 "allowAnalysis": true,
 "bandCount": 4,
 "noDataValue": 3.3999999521443642E38,
 "noDataValues": [
  3.3999999521443642E38,
  3.3999999521443642E38,
  3.3999999521443642E38,
  3.3999999521443642E38
 ],
 "pixelType": "F32",
 "minPixelSize": 0,
 "maxPixelSize": 0,
 "copyrightText": "",
 "serviceDataType": "esriImageServiceDataTypeGeneric",
 "serviceSourceType": "esriImageServiceSourceTypeDataset",
 "minValues": [
  -0.46928924322128,
  -0.22931133210659,
  -0.25676217675209,
  -0.5550816655159
 ],
 "maxValues": [
  3.8244972229004,
  2.2537617683411,
  2.482750415802,
  2.5080816745758
 ],
 "meanValues": [
  0.63692479396925,
  0.43769394132118,
  0.48665052599906,
  0.44858648140636
 ],
 "stdvValues": [
  0.70052163355322,
  0.48198630050029,
  0.5060756405143,
  0.48623813589481
 ],
 "objectIdField": "",
 "fields": [],
 "capabilities": "Image,Metadata,Pixels,Mensuration",
 "defaultMosaicMethod": "Center",
 "allowedMosaicMethods": "",
 "sortField": "",
 "sortValue": null,
 "sortAscending": true,
 "mosaicOperator": "First",
 "defaultCompressionQuality": 75,
 "defaultResamplingMethod": "Bilinear",
 "maxImageHeight": 4100,
 "maxImageWidth": 15000,
 "allowRasterFunction": true,
 "rasterFunctionInfos": [
  {
   "name": "None",
   "description": "",
   "help": ""
  }
 ],
 "rasterTypeInfos": [
  {
   "name": "Raster Dataset",
   "description": "Supports all ArcGIS Raster Datasets",
   "help": ""
  }
 ],
 "mensurationCapabilities": "Basic",
 "hasHistograms": false,
 "hasColormap": false,
 "hasRasterAttributeTable": false,
 "minScale": 0,
 "maxScale": 0,
 "exportTilesAllowed": false,
 "supportsStatistics": false,
 "supportsAdvancedQueries": false,
 "editFieldsInfo": null,
 "ownershipBasedAccessControlForRasters": null,
 "allowComputeTiePoints": false,
 "useStandardizedQueries": true,
 "advancedQueryCapabilities": {
  "useStandardizedQueries": true,
  "supportsStatistics": false,
  "supportsOrderBy": false,
  "supportsDistinct": false,
  "supportsPagination": false
 },
 "spatialReference": {
  "wkid": 102100,
  "latestWkid": 3857
 }
}
