View In:
ArcGIS JavaScript
ArcGIS Online Map Viewer
ArcGIS Earth
ArcMap
View Footprint In:
ArcGIS Online Map Viewer
Service Description: AA_MRDMS_v2/AA_MRDMS_Sishen_LatestImagery_ImageLAYER
Name: AA_MRDMS_v2/AA_MRDMS_Sishen_LatestImagery_ImageLAYER
Description:
Single Fused Map Cache: false
Extent:
XMin: 22.93330436113649
YMin: -27.85431952102367
XMax: 23.059830271049478
YMax: -27.66952258095519
Spatial Reference: 4326
(4326)
Initial Extent:
XMin: 22.93330436113649
YMin: -27.85431952102367
XMax: 23.059830271049478
YMax: -27.66952258095519
Spatial Reference: 4326
(4326)
Full Extent:
XMin: 22.93330436113649
YMin: -27.85431952102367
XMax: 23.059830271049478
YMax: -27.66952258095519
Spatial Reference: 4326
(4326)
Pixel Size X: 4.786121573346516E-6
Pixel Size Y: 4.7861215733464644E-6
Band Count: 3
Pixel Type: U8
RasterFunction Infos: {"rasterFunctionInfos": [{
"name": "None",
"description": "",
"help": ""
}]}
Mensuration Capabilities: Basic
Has Histograms: false
Has Colormap: false
Has Multi Dimensions : false
Rendering Rule:
Min Scale: 0
Max Scale: 0
Copyright Text:
Service Data Type: esriImageServiceDataTypeRGB
Min Values: N/A
Max Values: N/A
Mean Values: N/A
Standard Deviation Values: N/A
Object ID Field:
Fields:
None
Default Mosaic Method: Center
Allowed Mosaic Methods:
SortField:
SortValue: null
Mosaic Operator: First
Default Compression Quality: 75
Default Resampling Method: Bilinear
Max Record Count: null
Max Image Height: 4100
Max Image Width: 15000
Max Download Image Count: null
Max Mosaic Image Count: null
Allow Raster Function: true
Allow Copy: true
Allow Analysis: true
Allow Compute TiePoints: false
Supports Statistics: false
Supports Advanced Queries: false
Use StandardizedQueries: true
Raster Type Infos:
Name: Raster Dataset
Description: Supports all ArcGIS Raster Datasets
Help:
Has Raster Attribute Table: false
Edit Fields Info: null
Ownership Based AccessControl For Rasters: null
Child Resources:
Info
Statistics
Key Properties
Legend
Raster Function Infos
Supported Operations:
Export Image
Identify
Measure
Compute Histograms
Compute Statistics Histograms
Get Samples
Compute Class Statistics
Query Boundary
Compute Pixel Location
Compute Angles
Validate
Project