View In:
ArcGIS JavaScript
ArcGIS Online Map Viewer
ArcGIS Earth
ArcMap
View Footprint In:
ArcGIS Online Map Viewer
Service Description: AA_MRDMS_v2/AA_MRDMS_Quellaveco_LatestMineImagery_ImageLAYER
Name: AA_MRDMS_v2/AA_MRDMS_Quellaveco_LatestMineImagery_ImageLAYER
Description:
Single Fused Map Cache: false
Extent:
XMin: -7873101.1118
YMin: -1946442.7556000017
XMax: -7855739.1447
YMax: -1928460.7648000016
Spatial Reference: 102100
(3857)
Initial Extent:
XMin: -7873101.1118
YMin: -1946442.7556000017
XMax: -7855739.1447
YMax: -1928460.7648000016
Spatial Reference: 102100
(3857)
Full Extent:
XMin: -7873101.1118
YMin: -1946442.7556000017
XMax: -7855739.1447
YMax: -1928460.7648000016
Spatial Reference: 102100
(3857)
Pixel Size X: 0.4999990525285108
Pixel Size Y: 0.49999974418863385
Band Count: 4
Pixel Type: U8
RasterFunction Infos: {"rasterFunctionInfos": [{
"name": "None",
"description": "",
"help": ""
}]}
Mensuration Capabilities: Basic
Has Histograms: true
Has Colormap: false
Has Multi Dimensions : false
Rendering Rule:
Min Scale: 0
Max Scale: 0
Copyright Text:
Service Data Type: esriImageServiceDataTypeGeneric
Min Values: 0, 0, 0, 0
Max Values: 255, 255, 255, 255
Mean Values: 109.6620476919, 94.377212468799, 90.656873116387, 254.96857694079
Standard Deviation Values: 42.186054120602, 34.779986582536, 29.616553579704, 2.830528696953
Object ID Field:
Fields:
None
Default Mosaic Method: Center
Allowed Mosaic Methods:
SortField:
SortValue: null
Mosaic Operator: First
Default Compression Quality: 75
Default Resampling Method: Bilinear
Max Record Count: null
Max Image Height: 4100
Max Image Width: 15000
Max Download Image Count: null
Max Mosaic Image Count: null
Allow Raster Function: true
Allow Copy: true
Allow Analysis: true
Allow Compute TiePoints: false
Supports Statistics: false
Supports Advanced Queries: false
Use StandardizedQueries: true
Raster Type Infos:
Name: Raster Dataset
Description: Supports all ArcGIS Raster Datasets
Help:
Has Raster Attribute Table: false
Edit Fields Info: null
Ownership Based AccessControl For Rasters: null
Child Resources:
Info
Histograms
Statistics
Key Properties
Legend
Raster Function Infos
Supported Operations:
Export Image
Identify
Measure
Compute Histograms
Compute Statistics Histograms
Get Samples
Compute Class Statistics
Query Boundary
Compute Pixel Location
Compute Angles
Validate
Project