View In:
ArcGIS JavaScript
ArcGIS Online Map Viewer
ArcGIS Earth
ArcMap
View Footprint In:
ArcGIS Online Map Viewer
Service Description: AA_MRDMS_v2/AA_MRDMS_GahchoKue_LatesMineImagery_ImageLAYER
Name: AA_MRDMS_v2/AA_MRDMS_GahchoKue_LatesMineImagery_ImageLAYER
Description:
Single Fused Map Cache: false
Extent:
XMin: 585992.7000000001
YMin: 7033415.25
XMax: 594055.9500000001
YMax: 7040437.95
Spatial Reference: 26912
(26912)
Initial Extent:
XMin: 585992.7000000001
YMin: 7033415.25
XMax: 594055.9500000001
YMax: 7040437.95
Spatial Reference: 26912
(26912)
Full Extent:
XMin: 585992.7000000001
YMin: 7033415.25
XMax: 594055.9500000001
YMax: 7040437.95
Spatial Reference: 26912
(26912)
Pixel Size X: 0.15
Pixel Size Y: 0.150000000000004
Band Count: 3
Pixel Type: U8
RasterFunction Infos: {"rasterFunctionInfos": [{
"name": "None",
"description": "",
"help": ""
}]}
Mensuration Capabilities: Basic
Has Histograms: false
Has Colormap: false
Has Multi Dimensions : false
Rendering Rule:
Min Scale: 0
Max Scale: 0
Copyright Text:
Service Data Type: esriImageServiceDataTypeRGB
Min Values: N/A
Max Values: N/A
Mean Values: N/A
Standard Deviation Values: N/A
Object ID Field:
Fields:
None
Default Mosaic Method: Center
Allowed Mosaic Methods:
SortField:
SortValue: null
Mosaic Operator: First
Default Compression Quality: 75
Default Resampling Method: Bilinear
Max Record Count: null
Max Image Height: 4100
Max Image Width: 15000
Max Download Image Count: null
Max Mosaic Image Count: null
Allow Raster Function: true
Allow Copy: true
Allow Analysis: true
Allow Compute TiePoints: false
Supports Statistics: false
Supports Advanced Queries: false
Use StandardizedQueries: true
Raster Type Infos:
Name: Raster Dataset
Description: Supports all ArcGIS Raster Datasets
Help:
Has Raster Attribute Table: false
Edit Fields Info: null
Ownership Based AccessControl For Rasters: null
Child Resources:
Info
Statistics
Key Properties
Legend
Raster Function Infos
Supported Operations:
Export Image
Identify
Measure
Compute Histograms
Compute Statistics Histograms
Get Samples
Compute Class Statistics
Query Boundary
Compute Pixel Location
Compute Angles
Validate
Project