View In:
ArcGIS JavaScript
ArcGIS Online Map Viewer
ArcGIS Earth
ArcMap
View Footprint In:
ArcGIS Online Map Viewer
Service Description: AA_MRDMS_v2/AA_MRDMS_Amandelbult_LatestImagery
Name: AA_MRDMS_v2/AA_MRDMS_Amandelbult_LatestImagery
Description:
Single Fused Map Cache: false
Extent:
XMin: 3043273.8652000017
YMin: -2846025.920600001
XMax: 3044815.683100002
YMax: -2844418.713900001
Spatial Reference: 102100
(3857)
Initial Extent:
XMin: 3043273.8652000017
YMin: -2846025.920600001
XMax: 3044815.683100002
YMax: -2844418.713900001
Spatial Reference: 102100
(3857)
Full Extent:
XMin: 3043273.8652000017
YMin: -2846025.920600001
XMax: 3044815.683100002
YMax: -2844418.713900001
Spatial Reference: 102100
(3857)
Pixel Size X: 0.049998959042712975
Pixel Size Y: 0.04999865297868971
Band Count: 4
Pixel Type: U8
RasterFunction Infos: {"rasterFunctionInfos": [{
"name": "None",
"description": "",
"help": ""
}]}
Mensuration Capabilities: Basic
Has Histograms: true
Has Colormap: false
Has Multi Dimensions : false
Rendering Rule:
Min Scale: 0
Max Scale: 0
Copyright Text:
Service Data Type: esriImageServiceDataTypeGeneric
Min Values: 1, 1, 1, 1
Max Values: 255, 255, 255, 255
Mean Values: 157.81771773689, 142.20740523256, 119.29608639745, 254.99222407964
Standard Deviation Values: 34.541228677375, 32.523043512565, 30.646297252746, 0.98138964962338
Object ID Field:
Fields:
None
Default Mosaic Method: Center
Allowed Mosaic Methods:
SortField:
SortValue: null
Mosaic Operator: First
Default Compression Quality: 75
Default Resampling Method: Bilinear
Max Record Count: null
Max Image Height: 4100
Max Image Width: 15000
Max Download Image Count: null
Max Mosaic Image Count: null
Allow Raster Function: true
Allow Copy: true
Allow Analysis: true
Allow Compute TiePoints: false
Supports Statistics: false
Supports Advanced Queries: false
Use StandardizedQueries: true
Raster Type Infos:
Name: Raster Dataset
Description: Supports all ArcGIS Raster Datasets
Help:
Has Raster Attribute Table: false
Edit Fields Info: null
Ownership Based AccessControl For Rasters: null
Child Resources:
Info
Histograms
Statistics
Key Properties
Legend
Raster Function Infos
Supported Operations:
Export Image
Identify
Measure
Compute Histograms
Compute Statistics Histograms
Get Samples
Compute Class Statistics
Query Boundary
Compute Pixel Location
Compute Angles
Validate
Project